BEGIN:VCALENDAR
PRODID:brasil.gov.agenda
VERSION:1.0
BEGIN:VEVENT
DTSTART:20210115T150000Z
DTEND:20210115T170000Z
DCREATED:20210115T174236Z
UID:Compromisso-e88dfd183dfb48afb3a4322257f1c7ec
SEQUENCE:0
LAST-MODIFIED:20210115T174236Z
SUMMARY:Colação de grau do curso de Medicina - Diamantina/MG
LOCATION:Compromisso online
PRIORITY:3
TRANSP:0
END:VEVENT
END:VCALENDAR
