BEGIN:VCALENDAR
PRODID:brasil.gov.agenda
VERSION:1.0
BEGIN:VEVENT
DTSTART:20210114T080000Z
DTEND:20210114T120000Z
DCREATED:20210114T112105Z
UID:Compromisso-3676b7bbbbd543c9ac821353804c0887
SEQUENCE:0
LAST-MODIFIED:20210114T112105Z
SUMMARY:Despachos Internos
LOCATION:Reitoria
PRIORITY:3
TRANSP:0
END:VEVENT
END:VCALENDAR
