BEGIN:VCALENDAR
PRODID:brasil.gov.agenda
VERSION:1.0
BEGIN:VEVENT
DTSTART:20210114T140000Z
DTEND:20210114T200000Z
DCREATED:20210114T112135Z
UID:Compromisso-3c78a6c5453942c7b8464f1f8f5dae24
SEQUENCE:0
LAST-MODIFIED:20210114T112135Z
SUMMARY:Despachos Internos
LOCATION:Reitoria
PRIORITY:3
TRANSP:0
END:VEVENT
END:VCALENDAR
