BEGIN:VCALENDAR
PRODID:brasil.gov.agenda
VERSION:1.0
BEGIN:VEVENT
DTSTART:20210113T080000Z
DTEND:20210113T120000Z
DCREATED:20210113T123820Z
UID:Compromisso-b03e531507644d338ecbaf9951c197a4
SEQUENCE:0
LAST-MODIFIED:20210113T123820Z
SUMMARY:Despachos Internos
LOCATION:Reitoria
PRIORITY:3
TRANSP:0
END:VEVENT
END:VCALENDAR
