BEGIN:VCALENDAR
PRODID:brasil.gov.agenda
VERSION:1.0
BEGIN:VEVENT
DTSTART:20210113T140000Z
DTEND:20210113T180000Z
DCREATED:20210113T124338Z
UID:Compromisso-d21c3a4f59b6416fa2a0a02989440a39
SEQUENCE:0
LAST-MODIFIED:20210113T124338Z
SUMMARY:227ª reunião\, sendo a 138ª sessão em caráter ordinário do CONSU
LOCATION:Compromisso online
PRIORITY:3
TRANSP:0
END:VEVENT
END:VCALENDAR
