BEGIN:VCALENDAR
PRODID:brasil.gov.agenda
VERSION:1.0
BEGIN:VEVENT
DTSTART:20210112T090000Z
DTEND:20210112T100000Z
DCREATED:20210112T114933Z
UID:Compromisso-a975b6a62a82446dbde27e8697d332c2
SEQUENCE:0
LAST-MODIFIED:20210112T114933Z
SUMMARY:Reunião com pró-reitores
DESCRIPTION:Servidores Proplan
LOCATION:Reitoria
PRIORITY:3
TRANSP:0
END:VEVENT
END:VCALENDAR
