BEGIN:VCALENDAR
PRODID:brasil.gov.agenda
VERSION:1.0
BEGIN:VEVENT
DTSTART:20210112T143000Z
DTEND:20210112T152000Z
DCREATED:20210112T115052Z
UID:Compromisso-8f3d65ed7d3143bfbc2ce613abe980aa
SEQUENCE:0
LAST-MODIFIED:20210112T115052Z
SUMMARY:Reunião com a Direção da FAMED
DESCRIPTION:Situação da DEPE
LOCATION:Reitoria
PRIORITY:3
TRANSP:0
END:VEVENT
END:VCALENDAR
