BEGIN:VCALENDAR
PRODID:brasil.gov.agenda
VERSION:1.0
BEGIN:VEVENT
DTSTART:20210112T160000Z
DTEND:20210112T180000Z
DCREATED:20210112T115238Z
UID:Compromisso-f86a892baf124a399c6bba2f98a45291
SEQUENCE:0
LAST-MODIFIED:20210112T115238Z
SUMMARY:Despachos Internos
LOCATION:Reitoria
PRIORITY:3
TRANSP:0
END:VEVENT
END:VCALENDAR
