BEGIN:VCALENDAR
PRODID:brasil.gov.agenda
VERSION:1.0
BEGIN:VEVENT
DTSTART:20210111T140000Z
DTEND:20210111T150000Z
DCREATED:20210111T121319Z
UID:Compromisso-3411baa01eb74fc1915b81bc16dbdeda
SEQUENCE:0
LAST-MODIFIED:20210111T172057Z
SUMMARY:[ADIADA] - Reunião com pró-reitores
DESCRIPTION:Servidores Proplan
LOCATION:Reitoria
PRIORITY:3
TRANSP:0
END:VEVENT
END:VCALENDAR
