BEGIN:VCALENDAR
PRODID:brasil.gov.agenda
VERSION:1.0
BEGIN:VEVENT
DTSTART:20210111T160000Z
DTEND:20210111T180000Z
DCREATED:20210111T121433Z
UID:Compromisso-95d61cd81d9f482f87307a11909932b8
SEQUENCE:0
LAST-MODIFIED:20210111T172123Z
SUMMARY:Despachos Internos
LOCATION:Reitoria
PRIORITY:3
TRANSP:0
END:VEVENT
END:VCALENDAR
