BEGIN:VCALENDAR
PRODID:brasil.gov.agenda
VERSION:1.0
BEGIN:VEVENT
DTSTART:20210108T150000Z
DTEND:20210108T180000Z
DCREATED:20210108T112227Z
UID:Compromisso-575ac0ff7cd743dba54aa24f6dbada99
SEQUENCE:0
LAST-MODIFIED:20210108T112227Z
SUMMARY:Colação de grau antecipada curso de Odontologia
LOCATION:Compromisso online
PRIORITY:3
TRANSP:0
END:VEVENT
END:VCALENDAR
