BEGIN:VCALENDAR
PRODID:brasil.gov.agenda
VERSION:1.0
BEGIN:VEVENT
DTSTART:20210107T080000Z
DTEND:20210107T120000Z
DCREATED:20210107T160614Z
UID:Compromisso-f991b16fdf8f4c6c9a9e3c434e4559a2
SEQUENCE:0
LAST-MODIFIED:20210107T160614Z
SUMMARY:Despachos Internos
LOCATION:Reitoria
PRIORITY:3
TRANSP:0
END:VEVENT
END:VCALENDAR
