BEGIN:VCALENDAR
PRODID:brasil.gov.agenda
VERSION:1.0
BEGIN:VEVENT
DTSTART:20210107T140000Z
DTEND:20210107T180000Z
DCREATED:20210107T160643Z
UID:Compromisso-d74dd4495f4c4d768839bf9bdaa69dae
SEQUENCE:0
LAST-MODIFIED:20210107T160643Z
SUMMARY:Despachos Internos
LOCATION:Reitoria
PRIORITY:3
TRANSP:0
END:VEVENT
END:VCALENDAR
