BEGIN:VCALENDAR
PRODID:brasil.gov.agenda
VERSION:1.0
BEGIN:VEVENT
DTSTART:20210106T080000Z
DTEND:20210106T120000Z
DCREATED:20210106T111714Z
UID:Compromisso-249d3dce27c24efaa0cba59869ab7096
SEQUENCE:0
LAST-MODIFIED:20210106T111714Z
SUMMARY:Despachos Internos
LOCATION:Reitoria
PRIORITY:3
TRANSP:0
END:VEVENT
END:VCALENDAR
