BEGIN:VCALENDAR
PRODID:brasil.gov.agenda
VERSION:1.0
BEGIN:VEVENT
DTSTART:20210106T140000Z
DTEND:20210106T180000Z
DCREATED:20210106T111740Z
UID:Compromisso-6a03348874f646aa8eb06c81f00519ec
SEQUENCE:0
LAST-MODIFIED:20210106T133325Z
SUMMARY:158ª reunião\, sendo a 38ª sessão em caráter extraordinário do CONSEPE
LOCATION:Compromisso online
PRIORITY:3
TRANSP:0
END:VEVENT
END:VCALENDAR
