BEGIN:VCALENDAR
PRODID:brasil.gov.agenda
VERSION:1.0
BEGIN:VEVENT
DTSTART:20210105T080000Z
DTEND:20210105T120000Z
DCREATED:20210106T111527Z
UID:Compromisso-a6e0313bffc746cea1180d80e280216a
SEQUENCE:0
LAST-MODIFIED:20210106T111527Z
SUMMARY:Despachos Internos
LOCATION:Reitoria
PRIORITY:3
TRANSP:0
END:VEVENT
END:VCALENDAR
