BEGIN:VCALENDAR
PRODID:brasil.gov.agenda
VERSION:1.0
BEGIN:VEVENT
DTSTART:20210104T080000Z
DTEND:20210104T120000Z
DCREATED:20210105T000955Z
UID:Compromisso-fa2cbabe0e104ab9a1f9935dba66f44b
SEQUENCE:0
LAST-MODIFIED:20210105T000955Z
SUMMARY:Despachos Internos
LOCATION:Reitoria
PRIORITY:3
TRANSP:0
END:VEVENT
END:VCALENDAR
