BEGIN:VCALENDAR
PRODID:brasil.gov.agenda
VERSION:1.0
BEGIN:VEVENT
DTSTART:20210104T140000Z
DTEND:20210104T180000Z
DCREATED:20210105T001024Z
UID:Compromisso-24fde5cbb62641458bb1af925396b328
SEQUENCE:0
LAST-MODIFIED:20210105T001024Z
SUMMARY:Despachos Internos
LOCATION:Reitoria
PRIORITY:3
TRANSP:0
END:VEVENT
END:VCALENDAR
