BEGIN:VCALENDAR
PRODID:brasil.gov.agenda
VERSION:1.0
BEGIN:VEVENT
DTSTART:20201222T090000Z
DTEND:20201222T100000Z
DCREATED:20201222T114337Z
UID:Compromisso-1a4c86249c584f5b985497aaf71c5dda
SEQUENCE:0
LAST-MODIFIED:20201222T114337Z
SUMMARY:Solenidade de posse da nova reitora e demais diretores do IFNMG
LOCATION:Compromisso online
PRIORITY:3
TRANSP:0
END:VEVENT
END:VCALENDAR
