BEGIN:VCALENDAR
PRODID:brasil.gov.agenda
VERSION:1.0
BEGIN:VEVENT
DTSTART:20201222T083000Z
DTEND:20201222T090000Z
DCREATED:20201222T114238Z
UID:Compromisso-60106877489f4d6d84bb80818d162785
SEQUENCE:0
LAST-MODIFIED:20201222T114238Z
SUMMARY:Colação de grau posterior
LOCATION:Reitoria
PRIORITY:3
TRANSP:0
END:VEVENT
END:VCALENDAR
