BEGIN:VCALENDAR
PRODID:brasil.gov.agenda
VERSION:1.0
BEGIN:VEVENT
DTSTART:20201222T140000Z
DTEND:20201222T180000Z
DCREATED:20201222T114602Z
UID:Compromisso-c54ca947d0834850a92c22de811edd28
SEQUENCE:0
LAST-MODIFIED:20201222T114635Z
SUMMARY:155ª reunião\, sendo a 119ª em caráter ordinário do Consepe
LOCATION:Compromisso online
PRIORITY:3
TRANSP:0
END:VEVENT
END:VCALENDAR
