BEGIN:VCALENDAR
PRODID:brasil.gov.agenda
VERSION:1.0
BEGIN:VEVENT
DTSTART:20201221T090000Z
DTEND:20201221T110000Z
DCREATED:20201221T113313Z
UID:Compromisso-df5e73c2d48c4828a58a0f8114fdabd3
SEQUENCE:0
LAST-MODIFIED:20201221T113503Z
SUMMARY:Continuação da 226ª reunião\, sendo a 137ª sessão em caráter ordinária do Consu
DESCRIPTION:Programa no site.
LOCATION:Compromisso online
PRIORITY:3
TRANSP:0
END:VEVENT
END:VCALENDAR
