BEGIN:VCALENDAR
PRODID:brasil.gov.agenda
VERSION:1.0
BEGIN:VEVENT
DTSTART:20201221T083000Z
DTEND:20201221T090000Z
DCREATED:20201221T113439Z
UID:Compromisso-2cd03e58615e42559a6205939451f915
SEQUENCE:0
LAST-MODIFIED:20201221T113439Z
SUMMARY:Colação de grau posterior
LOCATION:Reitoria
PRIORITY:3
TRANSP:0
END:VEVENT
END:VCALENDAR
