BEGIN:VCALENDAR
PRODID:brasil.gov.agenda
VERSION:1.0
BEGIN:VEVENT
DTSTART:20201221T140000Z
DTEND:20201221T180000Z
DCREATED:20201221T113615Z
UID:Compromisso-8cd3c72b640941a0850fe9853a1b94f0
SEQUENCE:0
LAST-MODIFIED:20201221T113615Z
SUMMARY:156ª reunião\, sendo a 36ª em caráter extraordinária do Consepe
LOCATION:Compromisso online
PRIORITY:3
TRANSP:0
END:VEVENT
END:VCALENDAR
