BEGIN:VCALENDAR
PRODID:brasil.gov.agenda
VERSION:1.0
BEGIN:VEVENT
DTSTART:20201218T080000Z
DTEND:20201218T120000Z
DCREATED:20201218T233741Z
UID:Compromisso-22fbb46333494d7498cb5a0dd0780348
SEQUENCE:0
LAST-MODIFIED:20201218T233741Z
SUMMARY:Despachos Internos
LOCATION:Reitoria
PRIORITY:3
TRANSP:0
END:VEVENT
END:VCALENDAR
