BEGIN:VCALENDAR
PRODID:brasil.gov.agenda
VERSION:1.0
BEGIN:VEVENT
DTSTART:20201218T000000Z
DTEND:20201218T000000Z
DCREATED:20201216T135429Z
UID:Compromisso-c3befa7951834f7a842482c9a0bb8036
SEQUENCE:0
LAST-MODIFIED:20201216T135430Z
SUMMARY:226ª reunião\, sendo a 137ª sessão em caráter ordinária do Consu
LOCATION:Compromisso online
PRIORITY:3
TRANSP:0
END:VEVENT
END:VCALENDAR
