BEGIN:VCALENDAR
PRODID:brasil.gov.agenda
VERSION:1.0
BEGIN:VEVENT
DTSTART:20201217T113000Z
DTEND:20201217T120000Z
DCREATED:20201217T112738Z
UID:Compromisso-e2327110738840cba038e6aaf8c749d7
SEQUENCE:0
LAST-MODIFIED:20201217T112738Z
SUMMARY:Sessão de posse
DESCRIPTION:Posse de Professor do Magistério Superior: Cristina Isola
 n
LOCATION:Reitoria
PRIORITY:3
TRANSP:0
END:VEVENT
END:VCALENDAR
