BEGIN:VCALENDAR
PRODID:brasil.gov.agenda
VERSION:1.0
BEGIN:VEVENT
DTSTART:20201217T140000Z
DTEND:20201217T150000Z
DCREATED:20201217T113205Z
UID:Compromisso-974d2cc29cef4c61a389d5db7fae5e48
SEQUENCE:0
LAST-MODIFIED:20201217T113205Z
SUMMARY:Reunião com a comissão  incumbida da elaboração do Plano de Integridade 2021 a 2023
DESCRIPTION:Plano de Integridade 2021/2023
LOCATION:Compromisso online
PRIORITY:3
TRANSP:0
END:VEVENT
END:VCALENDAR
