BEGIN:VCALENDAR
PRODID:brasil.gov.agenda
VERSION:1.0
BEGIN:VEVENT
DTSTART:20201217T103000Z
DTEND:20201217T110000Z
DCREATED:20201217T112600Z
UID:Compromisso-5e804b2bb6fe4451b9ad61434b7c0df1
SEQUENCE:0
LAST-MODIFIED:20201217T112600Z
SUMMARY:Colação de grau antecipada
LOCATION:Reitoria
PRIORITY:3
TRANSP:0
END:VEVENT
END:VCALENDAR
