BEGIN:VCALENDAR
PRODID:brasil.gov.agenda
VERSION:1.0
BEGIN:VEVENT
DTSTART:20201216T143000Z
DTEND:20201216T150000Z
DCREATED:20201215T114625Z
UID:Compromisso-fa9d3ded2f6a42edac34c35b8b1565d7
SEQUENCE:0
LAST-MODIFIED:20201215T114625Z
SUMMARY:Sessão de posse
DESCRIPTION:Pró-reitoria de Gestão de Pessoas: Maria de Fátima Afon
 so Fernandes
LOCATION:Reitoria
PRIORITY:3
TRANSP:0
END:VEVENT
END:VCALENDAR
