BEGIN:VCALENDAR
PRODID:brasil.gov.agenda
VERSION:1.0
BEGIN:VEVENT
DTSTART:20201216T150000Z
DTEND:20201216T153000Z
DCREATED:20201216T132105Z
UID:Compromisso-e5b3f8713764426c9da5e25ef61e3787
SEQUENCE:0
LAST-MODIFIED:20201216T132105Z
SUMMARY:Reunião com servidor
DESCRIPTION:Redistribuição
LOCATION:Reitoria
PRIORITY:3
TRANSP:0
END:VEVENT
END:VCALENDAR
