BEGIN:VCALENDAR
PRODID:brasil.gov.agenda
VERSION:1.0
BEGIN:VEVENT
DTSTART:20201216T110000Z
DTEND:20201216T120000Z
DCREATED:20201216T132341Z
UID:Compromisso-b3cbc40f622f424783f90a79271a4933
SEQUENCE:0
LAST-MODIFIED:20201216T132341Z
SUMMARY:Reunião com Procurador Educacional Institucional - PEI
DESCRIPTION:Cadastro no E-mec
LOCATION:Reitoria
PRIORITY:3
TRANSP:0
END:VEVENT
END:VCALENDAR
