BEGIN:VCALENDAR
PRODID:brasil.gov.agenda
VERSION:1.0
BEGIN:VEVENT
DTSTART:20201216T160000Z
DTEND:20201216T180000Z
DCREATED:20201215T114658Z
UID:Compromisso-bfeca610acd344fdaa63f42306b1f5aa
SEQUENCE:0
LAST-MODIFIED:20201215T114658Z
SUMMARY:Despachos Internos
LOCATION:Reitoria
PRIORITY:3
TRANSP:0
END:VEVENT
END:VCALENDAR
