BEGIN:VCALENDAR
PRODID:brasil.gov.agenda
VERSION:1.0
BEGIN:VEVENT
DTSTART:20201215T140000Z
DTEND:20201215T150000Z
DCREATED:20201215T114137Z
UID:Compromisso-3c6b8f5784e144a9a94d84c0e8a05f8f
SEQUENCE:0
LAST-MODIFIED:20201215T114137Z
SUMMARY:Reunião com a Faculdade de Ciências Agrárias (FCA)
DESCRIPTION:Manutenção do gado de leite
LOCATION:Reitoria
PRIORITY:3
TRANSP:0
END:VEVENT
END:VCALENDAR
