BEGIN:VCALENDAR
PRODID:brasil.gov.agenda
VERSION:1.0
BEGIN:VEVENT
DTSTART:20201215T150000Z
DTEND:20201215T180000Z
DCREATED:20201215T114210Z
UID:Compromisso-56cdaaad7f7644ad9d6e2daeaf14ba18
SEQUENCE:0
LAST-MODIFIED:20201215T114210Z
SUMMARY:Despachos Internos
LOCATION:Reitoria
PRIORITY:3
TRANSP:0
END:VEVENT
END:VCALENDAR
