BEGIN:VCALENDAR
PRODID:brasil.gov.agenda
VERSION:1.0
BEGIN:VEVENT
DTSTART:20201214T143000Z
DTEND:20201214T150000Z
DCREATED:20201214T171156Z
UID:Compromisso-09da090133ea400cabd3a4431e032714
SEQUENCE:0
LAST-MODIFIED:20201215T114228Z
SUMMARY:Sessão de posse
DESCRIPTION:Posse de Professor do Magistério Superior: Frederico Borb
 orema Figueiredo
LOCATION:Reitoria
PRIORITY:3
TRANSP:0
END:VEVENT
END:VCALENDAR
