BEGIN:VCALENDAR
PRODID:brasil.gov.agenda
VERSION:1.0
BEGIN:VEVENT
DTSTART:20201214T150000Z
DTEND:20201214T180000Z
DCREATED:20201214T171221Z
UID:Compromisso-1228ba6022fd4d16a9d9640bbd03fb09
SEQUENCE:0
LAST-MODIFIED:20201214T171221Z
SUMMARY:Despachos Internos
LOCATION:Reitoria
PRIORITY:3
TRANSP:0
END:VEVENT
END:VCALENDAR
