BEGIN:VCALENDAR
PRODID:brasil.gov.agenda
VERSION:1.0
BEGIN:VEVENT
DTSTART:20201211T140000Z
DTEND:20201211T170000Z
DCREATED:20201211T182317Z
UID:Compromisso-d08fa726054d44abb0e151b931d9139c
SEQUENCE:0
LAST-MODIFIED:20201211T182317Z
SUMMARY:Reunião 154ª reunião\, sendo a 118ª em caráter ordinário do CONSEPE
LOCATION:Compromisso on-line
PRIORITY:3
TRANSP:0
END:VEVENT
END:VCALENDAR
