BEGIN:VCALENDAR
PRODID:brasil.gov.agenda
VERSION:1.0
BEGIN:VEVENT
DTSTART:20201211T110000Z
DTEND:20201211T120000Z
DCREATED:20201211T182348Z
UID:Compromisso-0d98e35a477646c5935fc512ac0cde43
SEQUENCE:0
LAST-MODIFIED:20201211T182348Z
SUMMARY:Despachos Internos
LOCATION:Reitoria
PRIORITY:3
TRANSP:0
END:VEVENT
END:VCALENDAR
