BEGIN:VCALENDAR
PRODID:brasil.gov.agenda
VERSION:1.0
BEGIN:VEVENT
DTSTART:20201210T140000Z
DTEND:20201210T150000Z
DCREATED:20201210T140607Z
UID:Compromisso-af1b65eb9ce64745891285d76b1e2f16
SEQUENCE:0
LAST-MODIFIED:20201210T140715Z
SUMMARY:Reunião de alinhamento
DESCRIPTION:Laboratório Covid-19 - Teófilo Otoni/MG
LOCATION:Reitoria
PRIORITY:3
TRANSP:0
END:VEVENT
END:VCALENDAR
