BEGIN:VCALENDAR
PRODID:brasil.gov.agenda
VERSION:1.0
BEGIN:VEVENT
DTSTART:20201210T150000Z
DTEND:20201210T160000Z
DCREATED:20201210T140850Z
UID:Compromisso-ad4afd450f044efea7b6171a9b2f2843
SEQUENCE:0
LAST-MODIFIED:20201210T140850Z
SUMMARY:Reunião com a Secretaria dos Conselhos
DESCRIPTION:Elaboração da pauta do CONSU
LOCATION:Reitoria
PRIORITY:3
TRANSP:0
END:VEVENT
END:VCALENDAR
