BEGIN:VCALENDAR
PRODID:brasil.gov.agenda
VERSION:1.0
BEGIN:VEVENT
DTSTART:20201210T080000Z
DTEND:20201210T120000Z
DCREATED:20201210T135902Z
UID:Compromisso-1bb553dd5e034ce8a46ad42d01c5d28e
SEQUENCE:0
LAST-MODIFIED:20201210T135902Z
SUMMARY:Despachos Internos
LOCATION:Reitoria
PRIORITY:3
TRANSP:0
END:VEVENT
END:VCALENDAR
