BEGIN:VCALENDAR
PRODID:brasil.gov.agenda
VERSION:1.0
BEGIN:VEVENT
DTSTART:20201210T160000Z
DTEND:20201210T180000Z
DCREATED:20201210T140917Z
UID:Compromisso-f7099e6b7946440a91ecc34c9ac2aaa9
SEQUENCE:0
LAST-MODIFIED:20201210T140917Z
SUMMARY:Despachos Internos
LOCATION:Reitoria
PRIORITY:3
TRANSP:0
END:VEVENT
END:VCALENDAR
