BEGIN:VCALENDAR
PRODID:brasil.gov.agenda
VERSION:1.0
BEGIN:VEVENT
DTSTART:20201209T080000Z
DTEND:20201209T120000Z
DCREATED:20201209T123031Z
UID:Compromisso-2659d6fba53642acb29981090c9effde
SEQUENCE:0
LAST-MODIFIED:20201209T123031Z
SUMMARY:Despachos Internos
LOCATION:Reitoria
PRIORITY:3
TRANSP:0
END:VEVENT
END:VCALENDAR
