BEGIN:VCALENDAR
PRODID:brasil.gov.agenda
VERSION:1.0
BEGIN:VEVENT
DTSTART:20201209T150000Z
DTEND:20201209T180000Z
DCREATED:20201209T123318Z
UID:Compromisso-7bf1b86ce7b9440d9af17ece6fdf4f91
SEQUENCE:0
LAST-MODIFIED:20201209T123318Z
SUMMARY:Despachos Internos
LOCATION:Reitoria
PRIORITY:3
TRANSP:0
END:VEVENT
END:VCALENDAR
