BEGIN:VCALENDAR
PRODID:brasil.gov.agenda
VERSION:1.0
BEGIN:VEVENT
DTSTART:20201203T080000Z
DTEND:20201203T120000Z
DCREATED:20201203T121018Z
UID:Compromisso-78db2082d4b540d7a91d9e3972f6ed07
SEQUENCE:0
LAST-MODIFIED:20201203T121018Z
SUMMARY:Despachos Internos
LOCATION:Reitoria
PRIORITY:3
TRANSP:0
END:VEVENT
END:VCALENDAR
