BEGIN:VCALENDAR
PRODID:brasil.gov.agenda
VERSION:1.0
BEGIN:VEVENT
DTSTART:20201202T080000Z
DTEND:20201202T100000Z
DCREATED:20201202T111944Z
UID:Compromisso-1db3475b71e448b19d090eec8e7e5a79
SEQUENCE:0
LAST-MODIFIED:20201202T111944Z
SUMMARY:Reunião de Alinhamento Interno
DESCRIPTION:Definição de pauta da reunião ordinária do Consepe.
LOCATION:Reitoria
PRIORITY:3
TRANSP:0
END:VEVENT
END:VCALENDAR
