BEGIN:VCALENDAR
PRODID:brasil.gov.agenda
VERSION:1.0
BEGIN:VEVENT
DTSTART:20201202T110000Z
DTEND:20201202T120000Z
DCREATED:20201202T112023Z
UID:Compromisso-074f423e986b47aa91230ce923ce9806
SEQUENCE:0
LAST-MODIFIED:20201202T112024Z
SUMMARY:Despachos Internos
LOCATION:Reitoria
PRIORITY:3
TRANSP:0
END:VEVENT
END:VCALENDAR
