BEGIN:VCALENDAR
PRODID:brasil.gov.agenda
VERSION:1.0
BEGIN:VEVENT
DTSTART:20201202T140000Z
DTEND:20201202T180000Z
DCREATED:20201202T112057Z
UID:Compromisso-41cef2a29fdd4c95a49d3b1ed04fb67a
SEQUENCE:0
LAST-MODIFIED:20201202T112058Z
SUMMARY:Despachos Internos
LOCATION:Reitoria
PRIORITY:3
TRANSP:0
END:VEVENT
END:VCALENDAR
