BEGIN:VCALENDAR
PRODID:brasil.gov.agenda
VERSION:1.0
BEGIN:VEVENT
DTSTART:20201201T080000Z
DTEND:20201201T120000Z
DCREATED:20201201T113736Z
UID:Compromisso-dd32a4b6e6d647ad859efa01ecddb563
SEQUENCE:0
LAST-MODIFIED:20201201T113737Z
SUMMARY:Despachos Internos
LOCATION:Reitoria
PRIORITY:3
TRANSP:0
END:VEVENT
END:VCALENDAR
